BEGIN:VCALENDAR
VERSION:2.0
PRODID:-//러브 토론토 (Love Toronto) - ECPv6.15.14//NONSGML v1.0//EN
CALSCALE:GREGORIAN
METHOD:PUBLISH
X-WR-CALNAME:러브 토론토 (Love Toronto)
X-ORIGINAL-URL:https://lovetoronto.org
X-WR-CALDESC:Events for 러브 토론토 (Love Toronto)
REFRESH-INTERVAL;VALUE=DURATION:PT1H
X-Robots-Tag:noindex
X-PUBLISHED-TTL:PT1H
BEGIN:VTIMEZONE
TZID:America/Toronto
BEGIN:DAYLIGHT
TZOFFSETFROM:-0500
TZOFFSETTO:-0400
TZNAME:EDT
DTSTART:20150308T070000
END:DAYLIGHT
BEGIN:STANDARD
TZOFFSETFROM:-0400
TZOFFSETTO:-0500
TZNAME:EST
DTSTART:20151101T060000
END:STANDARD
BEGIN:DAYLIGHT
TZOFFSETFROM:-0500
TZOFFSETTO:-0400
TZNAME:EDT
DTSTART:20160313T070000
END:DAYLIGHT
BEGIN:STANDARD
TZOFFSETFROM:-0400
TZOFFSETTO:-0500
TZNAME:EST
DTSTART:20161106T060000
END:STANDARD
BEGIN:DAYLIGHT
TZOFFSETFROM:-0500
TZOFFSETTO:-0400
TZNAME:EDT
DTSTART:20170312T070000
END:DAYLIGHT
BEGIN:STANDARD
TZOFFSETFROM:-0400
TZOFFSETTO:-0500
TZNAME:EST
DTSTART:20171105T060000
END:STANDARD
BEGIN:DAYLIGHT
TZOFFSETFROM:-0500
TZOFFSETTO:-0400
TZNAME:EDT
DTSTART:20180311T070000
END:DAYLIGHT
BEGIN:STANDARD
TZOFFSETFROM:-0400
TZOFFSETTO:-0500
TZNAME:EST
DTSTART:20181104T060000
END:STANDARD
BEGIN:DAYLIGHT
TZOFFSETFROM:-0500
TZOFFSETTO:-0400
TZNAME:EDT
DTSTART:20190310T070000
END:DAYLIGHT
BEGIN:STANDARD
TZOFFSETFROM:-0400
TZOFFSETTO:-0500
TZNAME:EST
DTSTART:20191103T060000
END:STANDARD
BEGIN:DAYLIGHT
TZOFFSETFROM:-0500
TZOFFSETTO:-0400
TZNAME:EDT
DTSTART:20200308T070000
END:DAYLIGHT
BEGIN:STANDARD
TZOFFSETFROM:-0400
TZOFFSETTO:-0500
TZNAME:EST
DTSTART:20201101T060000
END:STANDARD
BEGIN:DAYLIGHT
TZOFFSETFROM:-0500
TZOFFSETTO:-0400
TZNAME:EDT
DTSTART:20210314T070000
END:DAYLIGHT
BEGIN:STANDARD
TZOFFSETFROM:-0400
TZOFFSETTO:-0500
TZNAME:EST
DTSTART:20211107T060000
END:STANDARD
END:VTIMEZONE
BEGIN:VEVENT
DTSTART;TZID=America/Toronto:20200620T093000
DTEND;TZID=America/Toronto:20200627T120000
DTSTAMP:20260422T211816
CREATED:20200519T140509Z
LAST-MODIFIED:20210221T210515Z
UID:3999-1592645400-1593259200@lovetoronto.org
SUMMARY:청소년 자녀를 둔 부모성장레시피(무료)
DESCRIPTION:
URL:https://lovetoronto.org/en/event-item/%ec%b2%ad%ec%86%8c%eb%85%84-%ec%9e%90%eb%85%80%eb%a5%bc-%eb%91%94-%eb%b6%80%eb%aa%a8%ec%84%b1%ec%9e%a5%eb%a0%88%ec%8b%9c%ed%94%bc%eb%ac%b4%eb%a3%8c/
LOCATION:ON
ATTACH;FMTTYPE=image/jpeg:https://lovetoronto.org/wp-content/uploads/2020/05/부모성장레시피포스터.jpg
END:VEVENT
BEGIN:VEVENT
DTSTART;TZID=America/Toronto:20191026T160000
DTEND;TZID=America/Toronto:20191103T210000
DTSTAMP:20260422T211816
CREATED:20191026T000031Z
LAST-MODIFIED:20210221T210517Z
UID:3995-1572105600-1572814800@lovetoronto.org
SUMMARY:부부 데이트
DESCRIPTION:
URL:https://lovetoronto.org/en/event-item/%ec%95%84%eb%8f%99%eb%b0%9c%eb%8b%ac%ec%9e%a5%ec%95%a0-%ec%84%b8%eb%af%b8%eb%82%98/
LOCATION:405 Gordon Baker Rd.\, Toronto\, ON\, H2H 2S6\, Canada
ATTACH;FMTTYPE=image/jpeg:https://lovetoronto.org/wp-content/uploads/2020/04/2019.09.16_lovefamily.jpg
END:VEVENT
BEGIN:VEVENT
DTSTART;TZID=America/Toronto:20190924T193000
DTEND;TZID=America/Toronto:20191112T213000
DTSTAMP:20260422T211816
CREATED:20190924T000052Z
LAST-MODIFIED:20210221T210518Z
UID:3993-1569353400-1573594200@lovetoronto.org
SUMMARY:마음 알 이 새 시리즈 I (30대 기혼 남성을 위한 프로그램)
DESCRIPTION:
URL:https://lovetoronto.org/en/event-item/%eb%a7%88%ec%9d%8c-%ec%95%8c-%ec%9d%b4-%ec%83%88-%ec%8b%9c%eb%a6%ac%ec%a6%88-i-30%eb%8c%80-%ea%b8%b0%ed%98%bc-%eb%82%a8%ec%84%b1%ec%9d%84-%ec%9c%84%ed%95%9c-%ed%94%84%eb%a1%9c%ea%b7%b8%eb%9e%a8/
LOCATION:5803 Yonge Street\, 104 호\, North York\, ON\, M2M 3V5\, Canada
ATTACH;FMTTYPE=application/pdf:https://lovetoronto.org/wp-content/uploads/2020/04/2019.08.20_30대남성집단상담프로그램_오해를-넘어-이해로.pdf
END:VEVENT
BEGIN:VEVENT
DTSTART;TZID=America/Toronto:20190601T100000
DTEND;TZID=America/Toronto:20190601T133000
DTSTAMP:20260422T211816
CREATED:20190601T000047Z
LAST-MODIFIED:20210221T210519Z
UID:3991-1559383200-1559395800@lovetoronto.org
SUMMARY:청소년과 부모님을 위한 정신건강 세미나
DESCRIPTION:
URL:https://lovetoronto.org/en/event-item/%ec%b2%ad%ec%86%8c%eb%85%84%ea%b3%bc-%eb%b6%80%eb%aa%a8%eb%8b%98%ec%9d%84-%ec%9c%84%ed%95%9c-%ec%a0%95%ec%8b%a0%ea%b1%b4%ea%b0%95-%ec%84%b8%eb%af%b8%eb%82%98/
LOCATION:411 Gordon Baker Rd.\, Toronto\, ON\, M2H 2S6\, Canada
ATTACH;FMTTYPE=image/jpeg:https://lovetoronto.org/wp-content/uploads/2020/04/2019.05.06_러브토론토_청소년세미나.jpg
END:VEVENT
BEGIN:VEVENT
DTSTART;TZID=America/Toronto:20190504T120000
DTEND;TZID=America/Toronto:20190504T133000
DTSTAMP:20260422T211816
CREATED:20190504T000050Z
LAST-MODIFIED:20210221T210540Z
UID:3989-1556971200-1556976600@lovetoronto.org
SUMMARY:유언상속 세미나
DESCRIPTION:
URL:https://lovetoronto.org/en/event-item/%ec%9c%a0%ec%96%b8%ec%83%81%ec%86%8d-%ec%84%b8%eb%af%b8%eb%82%98/
LOCATION:405 Gordon Baker Rd.\, Toronto\, ON\, H2H 2S6\, Canada
ATTACH;FMTTYPE=application/pdf:https://lovetoronto.org/wp-content/uploads/2020/04/2019.03.29_유언상속세미나.pdf
END:VEVENT
BEGIN:VEVENT
DTSTART;TZID=America/Toronto:20181117T093000
DTEND;TZID=America/Toronto:20181117T133000
DTSTAMP:20260422T211816
CREATED:20181117T000036Z
LAST-MODIFIED:20210221T210541Z
UID:3987-1542447000-1542461400@lovetoronto.org
SUMMARY:아동발달장애 세미나
DESCRIPTION:
URL:https://lovetoronto.org/en/event-item/%ec%95%84%eb%8f%99%eb%b0%9c%eb%8b%ac%ec%9e%a5%ec%95%a0-%ec%84%b8%eb%af%b8%eb%82%98-2/
LOCATION:405 Gordon Baker Rd.\, Toronto\, ON\, H2H 2S6\, Canada
ATTACH;FMTTYPE=application/pdf:https://lovetoronto.org/wp-content/uploads/2020/04/2018.11.01아동발달장애세미나-1.pdf
END:VEVENT
BEGIN:VEVENT
DTSTART;VALUE=DATE:20170624
DTEND;VALUE=DATE:20170625
DTSTAMP:20260422T211816
CREATED:20170624T000041Z
LAST-MODIFIED:20210221T210542Z
UID:3985-1498262400-1498348799@lovetoronto.org
SUMMARY:법률 정보책자 번역 봉사자 모집
DESCRIPTION:
URL:https://lovetoronto.org/en/event-item/%eb%b2%95%eb%a5%a0-%ec%a0%95%eb%b3%b4%ec%b1%85%ec%9e%90-%eb%b2%88%ec%97%ad-%eb%b4%89%ec%82%ac%ec%9e%90-%eb%aa%a8%ec%a7%91/
LOCATION:5803 Yonge Street\, 104 호\, North York\, ON\, M2M 3V5\, Canada
ATTACH;FMTTYPE=application/pdf:https://lovetoronto.org/wp-content/uploads/2020/04/2017.06.18_캐나다-법률정보-소책자-번역-프로젝트를-위한-봉사자-모집-광고.pdf
END:VEVENT
BEGIN:VEVENT
DTSTART;TZID=America/Toronto:20170613T093000
DTEND;TZID=America/Toronto:20170613T153000
DTSTAMP:20260422T211816
CREATED:20170613T000051Z
LAST-MODIFIED:20210221T210543Z
UID:3983-1497346200-1497367800@lovetoronto.org
SUMMARY:제2회 목회자 상담 세미나
DESCRIPTION:
URL:https://lovetoronto.org/en/event-item/%ec%a0%9c2%ed%9a%8c-%eb%aa%a9%ed%9a%8c%ec%9e%90-%ec%83%81%eb%8b%b4-%ec%84%b8%eb%af%b8%eb%82%98/
LOCATION:5803 Yonge Street\, 104 호\, North York\, ON\, M2M 3V5\, Canada
ATTACH;FMTTYPE=application/pdf:https://lovetoronto.org/wp-content/uploads/2020/03/2017.06.18_제2회-목회자-상담세미나-광고.pdf
END:VEVENT
BEGIN:VEVENT
DTSTART;TZID=America/Toronto:20161112T090000
DTEND;TZID=America/Toronto:20161112T130000
DTSTAMP:20260422T211816
CREATED:20161112T000010Z
LAST-MODIFIED:20210221T210543Z
UID:3981-1478941200-1478955600@lovetoronto.org
SUMMARY:다문화 이해 세미나
DESCRIPTION:
URL:https://lovetoronto.org/en/event-item/%eb%8b%a4%eb%ac%b8%ed%99%94-%ec%9d%b4%ed%95%b4-%ec%84%b8%eb%af%b8%eb%82%98/
LOCATION:67 Scarsdale Rd.\, North York\, ON\, Canada
ATTACH;FMTTYPE=application/pdf:https://lovetoronto.org/wp-content/uploads/2017/10/2016.10.02_multiculture.pdf
END:VEVENT
END:VCALENDAR